BEGIN:VCALENDAR
VERSION:2.0
PRODID:-//Gemeinde Tholey - ECPv6.10.3//NONSGML v1.0//EN
CALSCALE:GREGORIAN
METHOD:PUBLISH
X-WR-CALNAME:Gemeinde Tholey
X-ORIGINAL-URL:https://www.tholey.de
X-WR-CALDESC:Veranstaltungen für Gemeinde Tholey
REFRESH-INTERVAL;VALUE=DURATION:PT1H
X-Robots-Tag:noindex
X-PUBLISHED-TTL:PT1H
BEGIN:VTIMEZONE
TZID:Europe/Berlin
BEGIN:DAYLIGHT
TZOFFSETFROM:+0100
TZOFFSETTO:+0200
TZNAME:CEST
DTSTART:20260329T010000
END:DAYLIGHT
BEGIN:STANDARD
TZOFFSETFROM:+0200
TZOFFSETTO:+0100
TZNAME:CET
DTSTART:20261025T010000
END:STANDARD
END:VTIMEZONE
BEGIN:VEVENT
DTSTART;TZID=Europe/Berlin:20260419T150000
DTEND;TZID=Europe/Berlin:20260525T180000
DTSTAMP:20260423T025733
CREATED:20260225T101715Z
LAST-MODIFIED:20260225T101715Z
UID:26079-1776610800-1779732000@www.tholey.de
SUMMARY:„So bunt wie der Frühling“: Hildegard Dewes stellt aus
DESCRIPTION:Farbenfrohe\, abstrakte Malerei erwartet Kunstinteressierte in Theley: In der Johann-Adams-Mühle wird die Ausstellung „So bunt wie der Frühling“ von Hildegard Dewes präsentiert. 🌸🖌️ \nDie Künstlerin aus Theley fand kurz vor der Corona-Zeit zur Malerei. In ihren abstrakten\, leuchtenden Werken – inspiriert von der Rakeltechnik Gerhard Richters – werden Gedanken\, Stimmungen und positive Eindrücke sichtbar gemacht. Farbe steht für Gefühl\, Kunst für Ausdruck. \nDie Ausstellung ist vom 19. April bis 25. Mai 2026 zu sehen – jeweils sonn- und feiertags von 14:00 Uhr bis 18:00 Uhr. Veranstaltungsort ist der ehemalige Kleintierstall der Johann-Adams-Mühle in Theley. 🏡✨ \nDie Vernissage findet am Sonntag\, 19. April\, um 15:00 Uhr statt. \nDie Ausstellung bietet einen besonderen kulturellen Akzent im Frühling und lädt dazu ein\, zeitgenössische Kunst aus der Region kennenzulernen.
URL:https://www.tholey.de/veranstaltung/so-bunt-wie-der-fruehling-hildegard-dewes-stellt-aus/
CATEGORIES:Top Seite,Top-Events
ATTACH;FMTTYPE=image/jpeg:https://www.tholey.de/wp-content/uploads/2026/02/169.jpg
END:VEVENT
END:VCALENDAR